BEGIN:VCALENDAR
VERSION:2.0
PRODID:-//CFMEU WA - ECPv6.15.16//NONSGML v1.0//EN
CALSCALE:GREGORIAN
METHOD:PUBLISH
X-WR-CALNAME:CFMEU WA
X-ORIGINAL-URL:https://wa.cfmeu.org
X-WR-CALDESC:Events for CFMEU WA
REFRESH-INTERVAL;VALUE=DURATION:PT1H
X-Robots-Tag:noindex
X-PUBLISHED-TTL:PT1H
BEGIN:VTIMEZONE
TZID:Australia/Melbourne
BEGIN:STANDARD
TZOFFSETFROM:+1100
TZOFFSETTO:+1000
TZNAME:AEST
DTSTART:20240406T160000
END:STANDARD
BEGIN:DAYLIGHT
TZOFFSETFROM:+1000
TZOFFSETTO:+1100
TZNAME:AEDT
DTSTART:20241005T160000
END:DAYLIGHT
BEGIN:STANDARD
TZOFFSETFROM:+1100
TZOFFSETTO:+1000
TZNAME:AEST
DTSTART:20250405T160000
END:STANDARD
BEGIN:DAYLIGHT
TZOFFSETFROM:+1000
TZOFFSETTO:+1100
TZNAME:AEDT
DTSTART:20251004T160000
END:DAYLIGHT
BEGIN:STANDARD
TZOFFSETFROM:+1100
TZOFFSETTO:+1000
TZNAME:AEST
DTSTART:20260404T160000
END:STANDARD
BEGIN:DAYLIGHT
TZOFFSETFROM:+1000
TZOFFSETTO:+1100
TZNAME:AEDT
DTSTART:20261003T160000
END:DAYLIGHT
END:VTIMEZONE
BEGIN:VEVENT
DTSTART;VALUE=DATE:20250101
DTEND;VALUE=DATE:20250102
DTSTAMP:20260422T032927
CREATED:20250123T171440Z
LAST-MODIFIED:20250123T171440Z
UID:10000001-1735689600-1735775999@wa.cfmeu.org
SUMMARY:Public Holiday
DESCRIPTION:
URL:https://wa.cfmeu.org/event/public-holiday/
END:VEVENT
BEGIN:VEVENT
DTSTART;VALUE=DATE:20250102
DTEND;VALUE=DATE:20250104
DTSTAMP:20260422T032927
CREATED:20250123T171540Z
LAST-MODIFIED:20250123T171540Z
UID:10000002-1735776000-1735948799@wa.cfmeu.org
SUMMARY:Shutdown
DESCRIPTION:
URL:https://wa.cfmeu.org/event/shutdown/
END:VEVENT
BEGIN:VEVENT
DTSTART;VALUE=DATE:20250104
DTEND;VALUE=DATE:20250106
DTSTAMP:20260422T032927
CREATED:20250123T171550Z
LAST-MODIFIED:20250123T171550Z
UID:10000003-1735948800-1736121599@wa.cfmeu.org
SUMMARY:DLW
DESCRIPTION:
URL:https://wa.cfmeu.org/event/dlw/
END:VEVENT
BEGIN:VEVENT
DTSTART;VALUE=DATE:20250106
DTEND;VALUE=DATE:20250125
DTSTAMP:20260422T032927
CREATED:20250123T171720Z
LAST-MODIFIED:20250123T171720Z
UID:10000004-1736121600-1737763199@wa.cfmeu.org
SUMMARY:School Holidays
DESCRIPTION:
URL:https://wa.cfmeu.org/event/school-holidays/
END:VEVENT
BEGIN:VEVENT
DTSTART;VALUE=DATE:20250125
DTEND;VALUE=DATE:20250127
DTSTAMP:20260422T032927
CREATED:20250123T171752Z
LAST-MODIFIED:20250123T171752Z
UID:10000005-1737763200-1737935999@wa.cfmeu.org
SUMMARY:DLW
DESCRIPTION:
URL:https://wa.cfmeu.org/event/dlw-2/
END:VEVENT
BEGIN:VEVENT
DTSTART;VALUE=DATE:20250127
DTEND;VALUE=DATE:20250128
DTSTAMP:20260422T032927
CREATED:20250123T174255Z
LAST-MODIFIED:20250123T174255Z
UID:10000006-1737936000-1738022399@wa.cfmeu.org
SUMMARY:Public Holiday
DESCRIPTION:
URL:https://wa.cfmeu.org/event/public-holiday-2/
END:VEVENT
BEGIN:VEVENT
DTSTART;VALUE=DATE:20250128
DTEND;VALUE=DATE:20250129
DTSTAMP:20260422T032927
CREATED:20250123T174316Z
LAST-MODIFIED:20250123T174316Z
UID:10000007-1738022400-1738108799@wa.cfmeu.org
SUMMARY:Award RDO
DESCRIPTION:
URL:https://wa.cfmeu.org/event/award-rdo/
END:VEVENT
BEGIN:VEVENT
DTSTART;VALUE=DATE:20250128
DTEND;VALUE=DATE:20250129
DTSTAMP:20260422T032927
CREATED:20250123T174616Z
LAST-MODIFIED:20250123T174616Z
UID:10000008-1738022400-1738108799@wa.cfmeu.org
SUMMARY:EBA24 RDO
DESCRIPTION:
URL:https://wa.cfmeu.org/event/eba24-rdo/
END:VEVENT
BEGIN:VEVENT
DTSTART;VALUE=DATE:20250129
DTEND;VALUE=DATE:20250205
DTSTAMP:20260422T032927
CREATED:20250123T175139Z
LAST-MODIFIED:20250131T130817Z
UID:10000009-1738108800-1738713599@wa.cfmeu.org
SUMMARY:School Holidays
DESCRIPTION:
URL:https://wa.cfmeu.org/event/school-holidays-2/
END:VEVENT
END:VCALENDAR